BEGIN:VCALENDAR
PRODID:-//Microsoft Corporation//Outlook 16.0 MIMEDIR//EN
VERSION:2.0
METHOD:PUBLISH
BEGIN:VEVENT
UID:9c6b353e-9b66-46fa-9472-9847ef556fad
DTSTART:20160501T140000
DTEND:20160501T150000
SUMMARY:YOGA
X-SPINETIX-COLOR:#1cbfe6
PRIORITY:5
SEQUENCE:2
RRULE:FREQ=DAILY;WKST=SU
END:VEVENT
BEGIN:VEVENT
UID:a2b25f90-558a-4572-9c3b-cc6c73ab8bd3
DTSTART:20160501T150000
DTEND:20160501T160000
SUMMARY:ZUMBA
X-SPINETIX-COLOR:#1cbfe6
PRIORITY:5
RRULE:FREQ=DAILY;WKST=SU
SEQUENCE:1
END:VEVENT
BEGIN:VEVENT
UID:b6ec3b3b-2137-42b4-9fab-1d1987054441
DTSTART:20160501T160000
DTEND:20160501T170000
SUMMARY:TRX
X-SPINETIX-COLOR:#1cbfe6
PRIORITY:5
RRULE:FREQ=DAILY;WKST=SU
SEQUENCE:1
END:VEVENT
BEGIN:VEVENT
UID:c4807155-bd17-4d63-b812-095680c6e3a0
DTSTART:20160501T130000
DTEND:20160501T140000
SUMMARY:CARDIO
X-SPINETIX-COLOR:#1cbfe6
PRIORITY:5
SEQUENCE:2
RRULE:FREQ=DAILY;WKST=SU
END:VEVENT
END:VCALENDAR
