BEGIN:VCALENDAR
PRODID:-//Microsoft Corporation//Outlook 16.0 MIMEDIR//EN
VERSION:2.0
METHOD:PUBLISH
BEGIN:VEVENT
UID:20c505a6-9a26-48bf-8fc2-8ee80c967fca
DTSTART:20160501T080000
DTEND:20160501T090000
SUMMARY:Strategy
LOCATION:Room 1
X-SPINETIX-COLOR:#1cbfe6
PRIORITY:5
RRULE:FREQ=DAILY;WKST=SU
END:VEVENT
BEGIN:VEVENT
UID:a77e4d63-6e1a-4d39-986c-6b3b0e4f7752
DTSTART:20160501T100000
DTEND:20160501T110000
SUMMARY:Sales
LOCATION:Room 3
X-SPINETIX-COLOR:#1cbfe6
PRIORITY:5
RRULE:FREQ=DAILY;WKST=SU
END:VEVENT
BEGIN:VEVENT
UID:6452443f-6fca-40a2-b0e1-d4531eec869d
DTSTART:20160501T120000
DTEND:20160501T130000
SUMMARY:Marketing
LOCATION:Room 5
X-SPINETIX-COLOR:#1cbfe6
PRIORITY:5
RRULE:FREQ=DAILY;WKST=SU
END:VEVENT
BEGIN:VEVENT
UID:a7200992-09fe-408b-86e2-f348ec31541e
DTSTART:20160501T140000
DTEND:20160501T150000
SUMMARY:Technology
LOCATION:Room 6
X-SPINETIX-COLOR:#1cbfe6
PRIORITY:5
RRULE:FREQ=DAILY;WKST=SU
END:VEVENT
BEGIN:VEVENT
UID:5cefef52-dc7f-493a-8ea0-f7e5f6805eef
DTSTART:20160501T160000
DTEND:20160501T170000
SUMMARY:Quality
LOCATION:Room 2
X-SPINETIX-COLOR:#1cbfe6
PRIORITY:5
RRULE:FREQ=DAILY;WKST=SU
END:VEVENT
END:VCALENDAR
