BEGIN:VCALENDAR
PRODID:-//Microsoft Corporation//Outlook 16.0 MIMEDIR//EN
VERSION:2.0
METHOD:PUBLISH
BEGIN:VEVENT
CLASS:PUBLIC
CREATED:20160422T145655Z
DESCRIPTION:Flatbread with Prosciutto\nTurkey with Mushroom Medley\nOven 
 Backed Pasta\nTiramisu\n
DTEND;VALUE=DATE:20160418T140000
DTSTAMP:20160422T150304Z
DTSTART;VALUE=DATE:20160418T100000
LAST-MODIFIED:20160422T145835Z
PRIORITY:5
SEQUENCE:3
SUMMARY:Monday menu
TRANSP:TRANSPARENT
UID:
 040000008200E00074C5B7101A82E0080000000050C50E27B89CD101000000000000000010
 00000041CEF751C0D2024AA40C9699F592E976
X-SPINETIX-COLOR:#1cbfe6
RRULE:FREQ=WEEKLY;BYDAY=MO;WKST=SU
END:VEVENT
BEGIN:VEVENT
CLASS:PUBLIC
CREATED:20160422T145655Z
DESCRIPTION:Flatbread with Prosciutto\nTurkey with Mushroom Medley\nOven 
 Backed Pasta\nTiramisu\n
DTEND;VALUE=DATE:20160419T140000
DTSTAMP:20160422T150304Z
DTSTART;VALUE=DATE:20160419T100000
LAST-MODIFIED:20160422T145909Z
PRIORITY:5
SEQUENCE:2
SUMMARY:Tuesday menu
TRANSP:TRANSPARENT
UID:
 040000008200E00074C5B7101A82E008000000005029102BB89CD101000000000000000010
 00000041CEF751C0D2024AA40C9699F592E976
X-SPINETIX-COLOR:#1cbfe6
RRULE:FREQ=WEEKLY;BYDAY=TU;WKST=SU
END:VEVENT
BEGIN:VEVENT
CLASS:PUBLIC
CREATED:20160422T145655Z
DESCRIPTION:Flatbread with Prosciutto\nTurkey with Mushroom Medley\nOven 
 Backed Pasta\nTiramisu\n
DTEND;VALUE=DATE:20160420T140000
DTSTAMP:20160422T150304Z
DTSTART;VALUE=DATE:20160420T100000
LAST-MODIFIED:20160422T145910Z
PRIORITY:5
SEQUENCE:2
SUMMARY:Wednesday menu
TRANSP:TRANSPARENT
UID:
 040000008200E00074C5B7101A82E00800000000E0D31F31B89CD101000000000000000010
 00000041CEF751C0D2024AA40C9699F592E976
X-SPINETIX-COLOR:#1cbfe6
RRULE:FREQ=DAILY;BYDAY=WE;WKST=SU
END:VEVENT
BEGIN:VEVENT
CLASS:PUBLIC
CREATED:20160422T145655Z
DESCRIPTION:Flatbread with Prosciutto\nTurkey with Mushroom Medley\nOven 
 Backed Pasta\nTiramisu\n
DTEND;VALUE=DATE:20160421T140000
DTSTAMP:20160422T150304Z
DTSTART;VALUE=DATE:20160421T100000
LAST-MODIFIED:20160422T145931Z
PRIORITY:5
SEQUENCE:2
SUMMARY:Thursday menu
TRANSP:TRANSPARENT
UID:
 040000008200E00074C5B7101A82E0080000000080D36F32B89CD101000000000000000010
 00000041CEF751C0D2024AA40C9699F592E976
X-SPINETIX-COLOR:#1cbfe6
RRULE:FREQ=WEEKLY;BYDAY=TH;WKST=SU
END:VEVENT
BEGIN:VEVENT
CLASS:PUBLIC
CREATED:20160422T145655Z
DESCRIPTION:Flatbread with Prosciutto\nTurkey with Mushroom Medley\nOven 
 Backed Pasta\nTiramisu\n
DTEND;VALUE=DATE:20160422T140000
DTSTAMP:20160422T150304Z
DTSTART;VALUE=DATE:20160422T100000
LAST-MODIFIED:20160422T145932Z
PRIORITY:5
SEQUENCE:2
SUMMARY:Friday menu
TRANSP:TRANSPARENT
UID:
 040000008200E00074C5B7101A82E00800000000B057A633B89CD101000000000000000010
 00000041CEF751C0D2024AA40C9699F592E976
X-SPINETIX-COLOR:#1cbfe6
RRULE:FREQ=WEEKLY;BYDAY=FR;WKST=SU
END:VEVENT
BEGIN:VEVENT
CLASS:PUBLIC
CREATED:20160422T145655Z
DESCRIPTION:Flatbread with Prosciutto\nTurkey with Mushroom Medley\nOven 
 Backed Pasta\nTiramisu\n
DTEND;VALUE=DATE:20160423T140000
DTSTAMP:20160422T150304Z
DTSTART;VALUE=DATE:20160423T100000
LAST-MODIFIED:20160422T145958Z
PRIORITY:5
SEQUENCE:2
SUMMARY:Satursday menu
TRANSP:TRANSPARENT
UID:
 040000008200E00074C5B7101A82E00800000000A0C94235B89CD101000000000000000010
 00000041CEF751C0D2024AA40C9699F592E976
X-SPINETIX-COLOR:#1cbfe6
RRULE:FREQ=WEEKLY;BYDAY=SA;WKST=SU
END:VEVENT
BEGIN:VEVENT
CLASS:PUBLIC
CREATED:20160422T145655Z
DESCRIPTION:Flatbread with Prosciutto\nTurkey with Mushroom Medley\nOven 
 Backed Pasta\nTiramisu\n
DTEND;VALUE=DATE:20160417T140000
DTSTAMP:20160422T150304Z
DTSTART;VALUE=DATE:20160417T100000
LAST-MODIFIED:20160422T145958Z
PRIORITY:5
SEQUENCE:3
SUMMARY:Sunday menu
TRANSP:TRANSPARENT
UID:
 040000008200E00074C5B7101A82E0080000000090AA8E36B89CD101000000000000000010
 00000041CEF751C0D2024AA40C9699F592E976
X-SPINETIX-COLOR:#1cbfe6
RRULE:FREQ=WEEKLY;BYDAY=SU;WKST=SU
END:VEVENT
END:VCALENDAR
